BEGIN:VCALENDAR
VERSION:2.0
PRODID:SchoolNow
CALSCALE:GREGORIAN
BEGIN:VEVENT
UID:8ef0bd04-c584-11f0-854d-0e23de79efab
DTSTAMP:20260304T152842Z
SUMMARY:CDD Board Meeting - Oct. 2025
LOCATION:the Offices of Inframark located at 2005 Pan Am Circle\, Suite 300
 \, Tampa\, FL 33607
URL;VALUE=URI:https://www.westlakecdd.com/calendar/8804229/cdd-board-meetin
 g-oct-2025
DTSTART:20251008T170000Z
DTEND:20251008T180000Z
ATTACH;FILENAME=2025-10-08 Updated West Lake Agenda Package.pdf;FMTTYPE=app
 lication/pdf:https://campussuite-storage.s3.amazonaws.com/prod/1559312/387
 b5dd6-bb33-11f0-bb7a-0affd0ed08b3/3038708/87356da6-c180-11f0-b4f7-0a58a9fe
 ac02/file/2025-10-08 Updated West Lake Agenda Package.pdf
END:VEVENT
END:VCALENDAR
