BEGIN:VCALENDAR
VERSION:2.0
PRODID:SchoolNow
CALSCALE:GREGORIAN
BEGIN:VEVENT
UID:98f89182-c584-11f0-a0c3-02ea71babd91
DTSTAMP:20260304T152813Z
SUMMARY:CDD Board Meeting - Nov. 2025
LOCATION:the Offices of Inframark located at 2005 Pan Am Circle\, Suite 300
 \, Tampa\, FL 33607
URL;VALUE=URI:https://www.westlakecdd.com/calendar/8804230/cdd-board-meetin
 g-nov-2025
DTSTART:20251112T180000Z
DTEND:20251112T190000Z
ATTACH;FILENAME=2025-11-12 West Lake Agenda.pdf;FMTTYPE=application/pdf:htt
 ps://campussuite-storage.s3.amazonaws.com/prod/1559312/387b5dd6-bb33-11f0-
 bb7a-0affd0ed08b3/3055123/8d73454a-df6b-11f0-849e-0a58a9feac02/file/2025-1
 1-12 West Lake Agenda.pdf
ATTACH;FILENAME=11-12-2025 West Lake Agenda Package.pdf;FMTTYPE=application
 /pdf:https://campussuite-storage.s3.amazonaws.com/prod/1559312/387b5dd6-bb
 33-11f0-bb7a-0affd0ed08b3/3047396/9eb1327a-d135-11f0-bc85-0a58a9feac02/fil
 e/11-12-2025 West Lake Agenda Package.pdf
END:VEVENT
END:VCALENDAR
