BEGIN:VCALENDAR
VERSION:2.0
PRODID:SchoolNow
CALSCALE:GREGORIAN
BEGIN:VEVENT
UID:a0a493a4-c584-11f0-ad8e-0e23e915d72f
DTSTAMP:20260304T152757Z
SUMMARY:CDD Board Meeting - Dec. 2025
LOCATION:the Offices of Inframark located at 2005 Pan Am Circle\, Suite 300
 \, Tampa\, FL 33607
URL;VALUE=URI:https://www.westlakecdd.com/calendar/8804231/cdd-board-meetin
 g-dec-2025
DTSTART:20251210T180000Z
DTEND:20251210T190000Z
ATTACH;FILENAME=2025-12-10 West Lake Agenda Package.pdf;FMTTYPE=application
 /pdf:https://campussuite-storage.s3.amazonaws.com/prod/1559312/387b5dd6-bb
 33-11f0-bb7a-0affd0ed08b3/3055738/e92991b8-e4d5-11f0-b6c2-0a58a9feac02/fil
 e/2025-12-10 West Lake Agenda Package.pdf
ATTACH;FILENAME=2025-12-10 West Lake Agenda.pdf;FMTTYPE=application/pdf:htt
 ps://campussuite-storage.s3.amazonaws.com/prod/1559312/387b5dd6-bb33-11f0-
 bb7a-0affd0ed08b3/3055739/28f7f6fe-e4d6-11f0-b10f-0affea7dd9f7/file/2025-1
 2-10 West Lake Agenda.pdf
END:VEVENT
END:VCALENDAR
