BEGIN:VCALENDAR
VERSION:2.0
PRODID:SchoolNow
CALSCALE:GREGORIAN
BEGIN:VEVENT
UID:ab37e9b0-c584-11f0-a89f-0a58a9feac02
DTSTAMP:20260304T154230Z
SUMMARY:CDD Board Meeting - Jan. 2026
LOCATION:the Offices of Inframark located at 2005 Pan Am Circle\, Suite 300
 \, Tampa\, FL 33607
URL;VALUE=URI:https://www.westlakecdd.com/calendar/8804232/cdd-board-meetin
 g-jan-2026
DTSTART:20260114T180000Z
DTEND:20260114T190000Z
ATTACH;FILENAME=2026-01-14 West Lake Agenda.pdf;FMTTYPE=application/pdf:htt
 ps://campussuite-storage.s3.amazonaws.com/prod/1559312/387b5dd6-bb33-11f0-
 bb7a-0affd0ed08b3/3076855/ba0d8fae-17e0-11f1-b8b8-0261e2fd6d85/file/2026-0
 1-14 West Lake Agenda.pdf
END:VEVENT
END:VCALENDAR
