BEGIN:VCALENDAR
VERSION:2.0
PRODID:SchoolNow
CALSCALE:GREGORIAN
BEGIN:VEVENT
UID:b4773a62-c584-11f0-ab6d-0affdcfcd8a3
DTSTAMP:20260304T152721Z
SUMMARY:CDD Board Meeting - Feb. 2026
LOCATION:the Offices of Inframark located at 2005 Pan Am Circle\, Suite 300
 \, Tampa\, FL 33607
URL;VALUE=URI:https://www.westlakecdd.com/calendar/8804233/cdd-board-meetin
 g-feb-2026
DTSTART:20260211T180000Z
DTEND:20260211T190000Z
ATTACH;FILENAME=2026-02-11 West Lake Agenda.pdf;FMTTYPE=application/pdf:htt
 ps://campussuite-storage.s3.amazonaws.com/prod/1559312/387b5dd6-bb33-11f0-
 bb7a-0affd0ed08b3/3067631/69cec1f2-02a0-11f1-8fb3-0affdf23371d/file/2026-0
 2-11 West Lake Agenda.pdf
ATTACH;FILENAME=2026-02-11 West Lake Agenda Package.pdf;FMTTYPE=application
 /pdf:https://campussuite-storage.s3.amazonaws.com/prod/1559312/387b5dd6-bb
 33-11f0-bb7a-0affd0ed08b3/3067633/7a04a9b0-02a0-11f1-8e9f-0e0a1100e6c7/fil
 e/2026-02-11 West Lake Agenda Package.pdf
END:VEVENT
END:VCALENDAR
