BEGIN:VCALENDAR
VERSION:2.0
PRODID:SchoolNow
CALSCALE:GREGORIAN
BEGIN:VEVENT
UID:be283958-c584-11f0-a7cb-0e23de79efab
DTSTAMP:20260304T150839Z
SUMMARY:CDD Board Meeting - Mar. 2026
LOCATION:the Offices of Inframark located at 2005 Pan Am Circle\, Suite 300
 \, Tampa\, FL 33607
URL;VALUE=URI:https://www.westlakecdd.com/calendar/8804234/cdd-board-meetin
 g-mar-2026
DTSTART:20260311T170000Z
DTEND:20260311T180000Z
ATTACH;FILENAME=2026-03-11 West Lake Agenda Package.pdf;FMTTYPE=application
 /pdf:https://campussuite-storage.s3.amazonaws.com/prod/1559312/387b5dd6-bb
 33-11f0-bb7a-0affd0ed08b3/3076732/e6759014-17db-11f1-9121-0a58a9feac02/fil
 e/2026-03-11 West Lake Agenda Package.pdf
END:VEVENT
END:VCALENDAR
