BEGIN:VCALENDAR
VERSION:2.0
PRODID:SchoolNow
CALSCALE:GREGORIAN
BEGIN:VEVENT
UID:c64a0e04-c584-11f0-813e-02ea71babd91
DTSTAMP:20260402T140948Z
SUMMARY:CDD Board Meeting - Apr. 2026
LOCATION:the Offices of Inframark located at 2005 Pan Am Circle\, Suite 300
 \, Tampa\, FL 33607
URL;VALUE=URI:https://www.westlakecdd.com/calendar/8804235/cdd-board-meetin
 g-apr-2026
DTSTART:20260408T170000Z
DTEND:20260408T180000Z
ATTACH;FILENAME=2026-04-08 West Lake Agenda.pdf;FMTTYPE=application/pdf:htt
 ps://campussuite-storage.s3.amazonaws.com/prod/1559312/387b5dd6-bb33-11f0-
 bb7a-0affd0ed08b3/3086157/9b8625f8-2e08-11f1-8e0f-0afff9befcc5/file/2026-0
 4-08 West Lake Agenda.pdf
ATTACH;FILENAME=2026-04-08 West Lake Agenda Package.pdf;FMTTYPE=application
 /pdf:https://campussuite-storage.s3.amazonaws.com/prod/1559312/387b5dd6-bb
 33-11f0-bb7a-0affd0ed08b3/3086264/8cf23974-2e9d-11f1-8d6e-0ea95dd34c39/fil
 e/2026-04-08 West Lake Agenda Package.pdf
END:VEVENT
END:VCALENDAR
