BEGIN:VCALENDAR
VERSION:2.0
PRODID:SchoolNow
CALSCALE:GREGORIAN
BEGIN:VEVENT
UID:cf8ba888-c584-11f0-bf48-0e87b21e145b
DTSTAMP:20260304T152607Z
SUMMARY:CDD Board Meeting - May 2026
LOCATION:the Offices of Inframark located at 2005 Pan Am Circle\, Suite 300
 \, Tampa\, FL 33607
URL;VALUE=URI:https://www.westlakecdd.com/calendar/8804236/cdd-board-meetin
 g-may-2026
DTSTART:20260513T170000Z
DTEND:20260513T180000Z
END:VEVENT
END:VCALENDAR
