BEGIN:VCALENDAR
VERSION:2.0
PRODID:SchoolNow
CALSCALE:GREGORIAN
BEGIN:VEVENT
UID:dfeec8b8-c584-11f0-90b4-0afff9ea838f
DTSTAMP:20260304T152644Z
SUMMARY:CDD Board Meeting - Jul. 2026
LOCATION:the Offices of Inframark located at 2005 Pan Am Circle\, Suite 300
 \, Tampa\, FL 33607
URL;VALUE=URI:https://www.westlakecdd.com/calendar/8804238/cdd-board-meetin
 g-jul-2026
DTSTART:20260708T170000Z
DTEND:20260708T180000Z
END:VEVENT
END:VCALENDAR
