BEGIN:VCALENDAR
VERSION:2.0
PRODID:SchoolNow
CALSCALE:GREGORIAN
BEGIN:VEVENT
UID:ebde209c-c584-11f0-8996-0a58a9feac02
DTSTAMP:20260304T152703Z
SUMMARY:CDD Board Meeting - Sept. 2026
LOCATION:the Offices of Inframark located at 2005 Pan Am Circle\, Suite 300
 \, Tampa\, FL 33607
URL;VALUE=URI:https://www.westlakecdd.com/calendar/8804239/cdd-board-meetin
 g-sept-2026
DTSTART:20260909T170000Z
DTEND:20260909T180000Z
END:VEVENT
END:VCALENDAR
