BEGIN:VCALENDAR
VERSION:2.0
PRODID:SchoolNow
CALSCALE:GREGORIAN
BEGIN:VEVENT
UID:edf82538-c6f3-11f0-8e3d-0e23e915d72f
DTSTAMP:20260304T152943Z
SUMMARY:CDD Board Meeting - Sept. 2025 - Special Meeting
LOCATION:the Offices of Inframark located at 2005 Pan Am Circle\, Suite 300
 \, Tampa\, FL 33607
URL;VALUE=URI:https://www.westlakecdd.com/calendar/8807423/cdd-board-meetin
 g-sept-2025-special-meeting
DTSTART:20250924T170000Z
DTEND:20250924T180000Z
ATTACH;FILENAME=2025-09-24 West Lake Agenda Package.pdf;FMTTYPE=application
 /pdf:https://campussuite-storage.s3.amazonaws.com/prod/1559312/387b5dd6-bb
 33-11f0-bb7a-0affd0ed08b3/3038711/87357080-c180-11f0-8a2d-0a58a9feac02/fil
 e/2025-09-24 West Lake Agenda Package.pdf
END:VEVENT
END:VCALENDAR
