BEGIN:VCALENDAR
VERSION:2.0
PRODID:SchoolNow
CALSCALE:GREGORIAN
BEGIN:VEVENT
UID:ffaee5f0-c6f3-11f0-adaf-0afff9ea838f
DTSTAMP:20260304T152956Z
SUMMARY:CDD Board Meeting - Sept. 2025
LOCATION:the Offices of Inframark located at 2005 Pan Am Circle\, Suite 300
 \, Tampa\, FL 33607
URL;VALUE=URI:https://www.westlakecdd.com/calendar/8807424/cdd-board-meetin
 g-sept-2025
DTSTART:20250910T170000Z
DTEND:20250910T180000Z
ATTACH;FILENAME=2025-09-10 West Lake Agenda Package.pdf;FMTTYPE=application
 /pdf:https://campussuite-storage.s3.amazonaws.com/prod/1559312/387b5dd6-bb
 33-11f0-bb7a-0affd0ed08b3/3038710/87356f90-c180-11f0-bd30-0a58a9feac02/fil
 e/2025-09-10 West Lake Agenda Package.pdf
END:VEVENT
END:VCALENDAR
