BEGIN:VCALENDAR
VERSION:2.0
PRODID:SchoolNow
CALSCALE:GREGORIAN
BEGIN:VEVENT
UID:b50d41ba-329e-11f1-84b5-0a58a9feac02
DTSTAMP:20260407T162744Z
SUMMARY:CDD Board Meeting - Aug. 2026
LOCATION:the Offices of Inframark located at 2005 Pan Am Circle\, Suite 300
 \, Tampa\, FL 33607
URL;VALUE=URI:https://www.westlakecdd.com/calendar/8977091/cdd-board-meetin
 g-aug-2026
DTSTART:20260812T170000Z
DTEND:20260812T180000Z
END:VEVENT
END:VCALENDAR
